Package: customProDB Version: 1.46.0 Command: /home/biocbuild/R/R/bin/R CMD check --install=check:customProDB.install-out.txt --library=/home/biocbuild/R/R/site-library --no-vignettes --timings customProDB_1.46.0.tar.gz StartedAt: 2025-04-01 05:32:27 -0000 (Tue, 01 Apr 2025) EndedAt: 2025-04-01 05:38:40 -0000 (Tue, 01 Apr 2025) EllapsedTime: 373.3 seconds RetCode: 0 Status: WARNINGS CheckDir: customProDB.Rcheck Warnings: 1