Package: customProDB Version: 1.46.0 Command: /home/biocbuild/R/R/bin/R CMD build --keep-empty-dirs --no-resave-data customProDB StartedAt: 2025-03-31 22:51:35 -0000 (Mon, 31 Mar 2025) EndedAt: 2025-03-31 22:53:01 -0000 (Mon, 31 Mar 2025) EllapsedTime: 86.0 seconds RetCode: 0 Status: OK PackageFile: customProDB_1.46.0.tar.gz PackageFileSize: 537.1 KiB