Package: customProDB Version: 1.46.0 Command: /Library/Frameworks/R.framework/Resources/bin/R CMD check --install=check:customProDB.install-out.txt --library=/Library/Frameworks/R.framework/Resources/library --no-vignettes --timings customProDB_1.46.0.tar.gz StartedAt: 2025-01-28 02:15:00 -0500 (Tue, 28 Jan 2025) EndedAt: 2025-01-28 02:27:04 -0500 (Tue, 28 Jan 2025) EllapsedTime: 723.9 seconds RetCode: 1 Status: ERROR CheckDir: customProDB.Rcheck Warnings: NA