Package: customProDB Version: 1.46.0 Command: rm -rf customProDB.buildbin-libdir && mkdir customProDB.buildbin-libdir && /Users/biocbuild/BBS/utils/build-universal.sh customProDB_1.46.0.tar.gz /Library/Frameworks/R.framework/Resources/bin/R customProDB.buildbin-libdir StartedAt: 2025-04-01 11:41:57 -0400 (Tue, 01 Apr 2025) EndedAt: 2025-04-01 11:43:31 -0400 (Tue, 01 Apr 2025) EllapsedTime: 93.9 seconds RetCode: 0 Status: OK PackageFile: customProDB_1.46.0.tgz PackageFileSize: 718 KiB