Package: customProDB Version: 1.46.0 Command: rm -rf customProDB.buildbin-libdir && mkdir customProDB.buildbin-libdir && /Users/biocbuild/BBS/utils/build-universal.sh customProDB_1.46.0.tar.gz /Library/Frameworks/R.framework/Resources/bin/R customProDB.buildbin-libdir StartedAt: 2025-01-29 14:16:30 -0500 (Wed, 29 Jan 2025) EndedAt: 2025-01-29 14:17:27 -0500 (Wed, 29 Jan 2025) EllapsedTime: 56.6 seconds RetCode: 0 Status: OK PackageFile: customProDB_1.46.0.tgz PackageFileSize: 717.5 KiB