Package: cummeRbund Version: 2.48.0 Command: /home/biocbuild/R/R/bin/R CMD INSTALL cummeRbund StartedAt: 2025-03-31 20:47:29 -0000 (Mon, 31 Mar 2025) EndedAt: 2025-03-31 20:48:41 -0000 (Mon, 31 Mar 2025) EllapsedTime: 71.8 seconds RetCode: 0 Status: OK