Package: cummeRbund Version: 2.48.0 Command: F:\biocbuild\bbs-3.20-bioc\R\bin\R.exe CMD check --no-multiarch --install=check:cummeRbund.install-out.txt --library=F:\biocbuild\bbs-3.20-bioc\R\library --no-vignettes --timings cummeRbund_2.48.0.tar.gz StartedAt: 2025-01-28 00:33:12 -0500 (Tue, 28 Jan 2025) EndedAt: 2025-01-28 00:40:00 -0500 (Tue, 28 Jan 2025) EllapsedTime: 407.7 seconds RetCode: 0 Status: WARNINGS CheckDir: cummeRbund.Rcheck Warnings: 1