Package: cummeRbund Version: 2.48.0 Command: /home/biocbuild/bbs-3.20-bioc/R/bin/R CMD INSTALL cummeRbund StartedAt: 2025-03-31 15:39:11 -0400 (Mon, 31 Mar 2025) EndedAt: 2025-03-31 15:40:07 -0400 (Mon, 31 Mar 2025) EllapsedTime: 55.7 seconds RetCode: 0 Status: OK