Package: cummeRbund Version: 2.48.0 Command: /home/biocbuild/bbs-3.20-bioc/R/bin/R CMD build --keep-empty-dirs --no-resave-data --md5 cummeRbund StartedAt: 2025-01-27 17:48:38 -0500 (Mon, 27 Jan 2025) EndedAt: 2025-01-27 17:50:25 -0500 (Mon, 27 Jan 2025) EllapsedTime: 107.1 seconds RetCode: 0 Status: OK PackageFile: cummeRbund_2.48.0.tar.gz PackageFileSize: 2.61 MiB