Package: cummeRbund Version: 2.48.0 Command: /Library/Frameworks/R.framework/Resources/bin/R CMD INSTALL cummeRbund StartedAt: 2025-02-03 16:08:35 -0500 (Mon, 03 Feb 2025) EndedAt: 2025-02-03 16:10:38 -0500 (Mon, 03 Feb 2025) EllapsedTime: 122.6 seconds RetCode: 0 Status: OK