Package: cummeRbund Version: 2.48.0 Command: /Library/Frameworks/R.framework/Resources/bin/R CMD check --install=check:cummeRbund.install-out.txt --library=/Library/Frameworks/R.framework/Resources/library --no-vignettes --timings cummeRbund_2.48.0.tar.gz StartedAt: 2025-01-28 02:13:34 -0500 (Tue, 28 Jan 2025) EndedAt: 2025-01-28 02:28:38 -0500 (Tue, 28 Jan 2025) EllapsedTime: 903.8 seconds RetCode: 0 Status: WARNINGS CheckDir: cummeRbund.Rcheck Warnings: 1