Package: cummeRbund Version: 2.48.0 Command: /home/biocbuild/R/R/bin/R CMD build --keep-empty-dirs --no-resave-data cummeRbund StartedAt: 2024-11-20 00:04:18 -0000 (Wed, 20 Nov 2024) EndedAt: 2024-11-20 00:06:46 -0000 (Wed, 20 Nov 2024) EllapsedTime: 148.2 seconds RetCode: 0 Status: OK PackageFile: cummeRbund_2.48.0.tar.gz PackageFileSize: 2.594 MiB