Package: ctsGE Version: 1.32.0 Command: rm -rf ctsGE.buildbin-libdir && mkdir ctsGE.buildbin-libdir && F:\biocbuild\bbs-3.20-bioc\R\bin\R.exe CMD INSTALL --build --library=ctsGE.buildbin-libdir ctsGE_1.32.0.tar.gz StartedAt: 2025-04-01 08:00:12 -0400 (Tue, 01 Apr 2025) EndedAt: 2025-04-01 08:00:22 -0400 (Tue, 01 Apr 2025) EllapsedTime: 10.5 seconds RetCode: 0 Status: OK PackageFile: ctsGE_1.32.0.zip PackageFileSize: 762.6 KiB