Package: csdR Version: 1.12.0 Command: /home/biocbuild/bbs-3.20-bioc/R/bin/R CMD INSTALL csdR StartedAt: 2025-01-30 15:41:57 -0500 (Thu, 30 Jan 2025) EndedAt: 2025-01-30 15:42:34 -0500 (Thu, 30 Jan 2025) EllapsedTime: 37.7 seconds RetCode: 0 Status: OK