Package: csaw Version: 1.40.0 Command: /home/biocbuild/R/R/bin/R CMD build --keep-empty-dirs --no-resave-data csaw StartedAt: 2025-01-30 22:55:36 -0000 (Thu, 30 Jan 2025) EndedAt: 2025-01-30 22:57:28 -0000 (Thu, 30 Jan 2025) EllapsedTime: 112.0 seconds RetCode: 0 Status: OK PackageFile: csaw_1.40.0.tar.gz PackageFileSize: 416.2 KiB