Package: crossmeta Version: 1.32.0 Command: /home/biocbuild/R/R/bin/R CMD INSTALL crossmeta StartedAt: 2025-01-27 21:47:23 -0000 (Mon, 27 Jan 2025) EndedAt: 2025-01-27 21:47:37 -0000 (Mon, 27 Jan 2025) EllapsedTime: 14.3 seconds RetCode: 0 Status: OK