Package: crossmeta Version: 1.32.0 Command: /Library/Frameworks/R.framework/Resources/bin/R CMD build --keep-empty-dirs --no-resave-data crossmeta StartedAt: 2025-03-31 18:00:04 -0400 (Mon, 31 Mar 2025) EndedAt: 2025-03-31 18:03:44 -0400 (Mon, 31 Mar 2025) EllapsedTime: 220.4 seconds RetCode: 0 Status: OK PackageFile: crossmeta_1.32.0.tar.gz PackageFileSize: 2.951 MiB