Package: crlmm Version: 1.64.0 Command: /home/biocbuild/R/R/bin/R CMD check --install=check:crlmm.install-out.txt --library=/home/biocbuild/R/R/site-library --no-vignettes --timings crlmm_1.64.0.tar.gz StartedAt: 2025-02-04 06:01:46 -0000 (Tue, 04 Feb 2025) EndedAt: 2025-02-04 06:13:48 -0000 (Tue, 04 Feb 2025) EllapsedTime: 722.6 seconds RetCode: 0 Status: WARNINGS CheckDir: crlmm.Rcheck Warnings: 1