Package: crlmm Version: 1.64.1 Command: /home/biocbuild/bbs-3.20-bioc/R/bin/R CMD INSTALL crlmm StartedAt: 2025-03-31 15:25:21 -0400 (Mon, 31 Mar 2025) EndedAt: 2025-03-31 15:26:00 -0400 (Mon, 31 Mar 2025) EllapsedTime: 39.0 seconds RetCode: 0 Status: OK