Package: crlmm Version: 1.64.0 Command: /Library/Frameworks/R.framework/Resources/bin/R CMD check --install=check:crlmm.install-out.txt --library=/Library/Frameworks/R.framework/Resources/library --no-vignettes --timings crlmm_1.64.0.tar.gz StartedAt: 2025-01-31 02:17:12 -0500 (Fri, 31 Jan 2025) EndedAt: 2025-01-31 02:36:29 -0500 (Fri, 31 Jan 2025) EllapsedTime: 1156.3 seconds RetCode: 0 Status: WARNINGS CheckDir: crlmm.Rcheck Warnings: 1