Package: crlmm Version: 1.64.1 Command: /Library/Frameworks/R.framework/Resources/bin/R CMD check --install=check:crlmm.install-out.txt --library=/Library/Frameworks/R.framework/Resources/library --no-vignettes --timings crlmm_1.64.1.tar.gz StartedAt: 2025-04-01 15:50:05 -0400 (Tue, 01 Apr 2025) EndedAt: 2025-04-01 16:02:40 -0400 (Tue, 01 Apr 2025) EllapsedTime: 755.4 seconds RetCode: 0 Status: WARNINGS CheckDir: crlmm.Rcheck Warnings: 1