Package: crisprViz Version: 1.8.0 Command: /home/biocbuild/bbs-3.20-bioc/R/bin/R CMD INSTALL crisprViz StartedAt: 2025-01-27 16:28:30 -0500 (Mon, 27 Jan 2025) EndedAt: 2025-01-27 16:29:39 -0500 (Mon, 27 Jan 2025) EllapsedTime: 69.0 seconds RetCode: 0 Status: OK