Package: crisprViz Version: 1.8.0 Command: /home/biocbuild/bbs-3.20-bioc/R/bin/R CMD build --keep-empty-dirs --no-resave-data --md5 crisprViz StartedAt: 2025-01-27 17:47:10 -0500 (Mon, 27 Jan 2025) EndedAt: 2025-01-27 17:49:23 -0500 (Mon, 27 Jan 2025) EllapsedTime: 132.1 seconds RetCode: 0 Status: OK PackageFile: crisprViz_1.8.0.tar.gz PackageFileSize: 1.257 MiB