Package: crisprViz Version: 1.8.0 Command: /Library/Frameworks/R.framework/Resources/bin/R CMD INSTALL crisprViz StartedAt: 2025-01-27 16:05:43 -0500 (Mon, 27 Jan 2025) EndedAt: 2025-01-27 16:07:33 -0500 (Mon, 27 Jan 2025) EllapsedTime: 109.8 seconds RetCode: 0 Status: OK