Package: crisprViz Version: 1.8.0 Command: rm -rf crisprViz.buildbin-libdir && mkdir crisprViz.buildbin-libdir && /Users/biocbuild/BBS/utils/build-universal.sh crisprViz_1.8.0.tar.gz /Library/Frameworks/R.framework/Resources/bin/R crisprViz.buildbin-libdir StartedAt: 2025-01-29 14:14:27 -0500 (Wed, 29 Jan 2025) EndedAt: 2025-01-29 14:15:35 -0500 (Wed, 29 Jan 2025) EllapsedTime: 67.7 seconds RetCode: 0 Status: OK PackageFile: crisprViz_1.8.0.tgz PackageFileSize: 1.354 MiB