Package: crisprVerse Version: 1.8.0 Command: /Library/Frameworks/R.framework/Resources/bin/R CMD build --keep-empty-dirs --no-resave-data crisprVerse StartedAt: 2025-03-31 17:59:45 -0400 (Mon, 31 Mar 2025) EndedAt: 2025-03-31 18:02:02 -0400 (Mon, 31 Mar 2025) EllapsedTime: 137.2 seconds RetCode: 0 Status: OK PackageFile: crisprVerse_1.8.0.tar.gz PackageFileSize: 295.9 KiB