Package: crisprShiny Version: 1.2.0 Command: /home/biocbuild/R/R/bin/R CMD build --keep-empty-dirs --no-resave-data crisprShiny StartedAt: 2025-02-10 22:42:31 -0000 (Mon, 10 Feb 2025) EndedAt: 2025-02-10 22:43:40 -0000 (Mon, 10 Feb 2025) EllapsedTime: 69.0 seconds RetCode: 0 Status: OK PackageFile: crisprShiny_1.2.0.tar.gz PackageFileSize: 1.581 MiB