Package: crisprShiny Version: 1.2.0 Command: F:\biocbuild\bbs-3.20-bioc\R\bin\R.exe CMD INSTALL crisprShiny StartedAt: 2025-02-10 16:26:54 -0500 (Mon, 10 Feb 2025) EndedAt: 2025-02-10 16:28:04 -0500 (Mon, 10 Feb 2025) EllapsedTime: 69.5 seconds RetCode: 0 Status: OK