Package: crisprShiny Version: 1.2.0 Command: chmod a+r crisprShiny -R && F:\biocbuild\bbs-3.20-bioc\R\bin\R.exe CMD build --keep-empty-dirs --no-resave-data crisprShiny StartedAt: 2025-02-10 18:18:50 -0500 (Mon, 10 Feb 2025) EndedAt: 2025-02-10 18:20:06 -0500 (Mon, 10 Feb 2025) EllapsedTime: 75.9 seconds RetCode: 0 Status: OK PackageFile: crisprShiny_1.2.0.tar.gz PackageFileSize: 1.581 MiB