Package: crisprShiny Version: 1.2.0 Command: /Library/Frameworks/R.framework/Resources/bin/R CMD check --install=check:crisprShiny.install-out.txt --library=/Library/Frameworks/R.framework/Resources/library --no-vignettes --timings crisprShiny_1.2.0.tar.gz StartedAt: 2025-02-11 16:04:54 -0500 (Tue, 11 Feb 2025) EndedAt: 2025-02-11 16:12:48 -0500 (Tue, 11 Feb 2025) EllapsedTime: 473.7 seconds RetCode: 0 Status: OK CheckDir: crisprShiny.Rcheck Warnings: 0