Package: crisprScore Version: 1.10.0 Command: /home/biocbuild/bbs-3.20-bioc/R/bin/R CMD check --install=check:crisprScore.install-out.txt --library=/home/biocbuild/bbs-3.20-bioc/R/site-library --timings crisprScore_1.10.0.tar.gz StartedAt: 2025-02-10 21:14:45 -0500 (Mon, 10 Feb 2025) EndedAt: 2025-02-10 21:17:12 -0500 (Mon, 10 Feb 2025) EllapsedTime: 147.1 seconds RetCode: 0 Status: OK CheckDir: crisprScore.Rcheck Warnings: 0