Package: crisprScore Version: 1.10.0 Command: /home/biocbuild/bbs-3.20-bioc/R/bin/R CMD build --keep-empty-dirs --no-resave-data --md5 crisprScore StartedAt: 2025-02-10 16:53:55 -0500 (Mon, 10 Feb 2025) EndedAt: 2025-02-10 16:54:20 -0500 (Mon, 10 Feb 2025) EllapsedTime: 25.0 seconds RetCode: 0 Status: OK PackageFile: crisprScore_1.10.0.tar.gz PackageFileSize: 4.514 MiB