Package: crisprScore Version: 1.10.0 Command: /Library/Frameworks/R.framework/Resources/bin/R CMD check --install=check:crisprScore.install-out.txt --library=/Library/Frameworks/R.framework/Resources/library --no-vignettes --timings crisprScore_1.10.0.tar.gz StartedAt: 2024-11-19 20:59:00 -0500 (Tue, 19 Nov 2024) EndedAt: 2024-11-19 21:04:57 -0500 (Tue, 19 Nov 2024) EllapsedTime: 357.5 seconds RetCode: 0 Status: OK CheckDir: crisprScore.Rcheck Warnings: 0