Package: crisprScore Version: 1.10.0 Command: rm -rf crisprScore.buildbin-libdir && mkdir crisprScore.buildbin-libdir && /Users/biocbuild/BBS/utils/build-universal.sh crisprScore_1.10.0.tar.gz /Library/Frameworks/R.framework/Resources/bin/R crisprScore.buildbin-libdir StartedAt: 2024-11-20 04:21:26 -0500 (Wed, 20 Nov 2024) EndedAt: 2024-11-20 04:21:58 -0500 (Wed, 20 Nov 2024) EllapsedTime: 31.4 seconds RetCode: 0 Status: OK PackageFile: crisprScore_1.10.0.tgz PackageFileSize: 4.403 MiB