Package: crisprScore Version: 1.10.0 Command: /home/biocbuild/R/R/bin/R CMD INSTALL crisprScore StartedAt: 2024-11-19 20:46:10 -0000 (Tue, 19 Nov 2024) EndedAt: 2024-11-19 20:46:32 -0000 (Tue, 19 Nov 2024) EllapsedTime: 22.5 seconds RetCode: 0 Status: OK