Package: crisprScore Version: 1.10.0 Command: /home/biocbuild/R/R/bin/R CMD check --install=check:crisprScore.install-out.txt --library=/home/biocbuild/R/R/site-library --no-vignettes --timings crisprScore_1.10.0.tar.gz StartedAt: 2024-11-20 06:40:59 -0000 (Wed, 20 Nov 2024) EndedAt: 2024-11-20 06:44:09 -0000 (Wed, 20 Nov 2024) EllapsedTime: 189.3 seconds RetCode: 0 Status: OK CheckDir: crisprScore.Rcheck Warnings: 0