Package: crisprBowtie Version: 1.10.0 Command: F:\biocbuild\bbs-3.20-bioc\R\bin\R.exe CMD INSTALL crisprBowtie StartedAt: 2025-01-30 16:11:42 -0500 (Thu, 30 Jan 2025) EndedAt: 2025-01-30 16:12:28 -0500 (Thu, 30 Jan 2025) EllapsedTime: 45.9 seconds RetCode: 0 Status: OK