Package: crisprBowtie Version: 1.10.0 Command: rm -rf crisprBowtie.buildbin-libdir && mkdir crisprBowtie.buildbin-libdir && F:\biocbuild\bbs-3.20-bioc\R\bin\R.exe CMD INSTALL --build --library=crisprBowtie.buildbin-libdir crisprBowtie_1.10.0.tar.gz StartedAt: 2025-02-04 08:17:15 -0500 (Tue, 04 Feb 2025) EndedAt: 2025-02-04 08:17:55 -0500 (Tue, 04 Feb 2025) EllapsedTime: 40.1 seconds RetCode: 0 Status: OK PackageFile: crisprBowtie_1.10.0.zip PackageFileSize: 342.1 KiB