Package: crisprBowtie Version: 1.10.0 Command: /home/biocbuild/bbs-3.20-bioc/R/bin/R CMD INSTALL crisprBowtie StartedAt: 2025-01-27 16:15:03 -0500 (Mon, 27 Jan 2025) EndedAt: 2025-01-27 16:15:37 -0500 (Mon, 27 Jan 2025) EllapsedTime: 33.8 seconds RetCode: 0 Status: OK