Package: crisprBowtie Version: 1.10.0 Command: /Library/Frameworks/R.framework/Resources/bin/R CMD INSTALL crisprBowtie StartedAt: 2025-01-27 15:42:04 -0500 (Mon, 27 Jan 2025) EndedAt: 2025-01-27 15:43:10 -0500 (Mon, 27 Jan 2025) EllapsedTime: 66.3 seconds RetCode: 0 Status: OK