Package: crisprBowtie Version: 1.10.0 Command: rm -rf crisprBowtie.buildbin-libdir && mkdir crisprBowtie.buildbin-libdir && /Users/biocbuild/BBS/utils/build-universal.sh crisprBowtie_1.10.0.tar.gz /Library/Frameworks/R.framework/Resources/bin/R crisprBowtie.buildbin-libdir StartedAt: 2025-01-28 12:54:26 -0500 (Tue, 28 Jan 2025) EndedAt: 2025-01-28 12:55:40 -0500 (Tue, 28 Jan 2025) EllapsedTime: 74.1 seconds RetCode: 0 Status: OK PackageFile: crisprBowtie_1.10.0.tgz PackageFileSize: 335.2 KiB