Package: crisprBase Version: 1.10.0 Command: /home/biocbuild/R/R/bin/R CMD INSTALL crisprBase StartedAt: 2025-01-27 21:12:51 -0000 (Mon, 27 Jan 2025) EndedAt: 2025-01-27 21:13:11 -0000 (Mon, 27 Jan 2025) EllapsedTime: 20.3 seconds RetCode: 0 Status: OK