Package: crisprBase Version: 1.10.0 Command: /home/biocbuild/R/R/bin/R CMD build --keep-empty-dirs --no-resave-data crisprBase StartedAt: 2025-03-31 22:47:33 -0000 (Mon, 31 Mar 2025) EndedAt: 2025-03-31 22:48:04 -0000 (Mon, 31 Mar 2025) EllapsedTime: 31.0 seconds RetCode: 0 Status: OK PackageFile: crisprBase_1.10.0.tar.gz PackageFileSize: 1.76 MiB