Package: crisprBase Version: 1.10.0 Command: /Library/Frameworks/R.framework/Resources/bin/R CMD INSTALL crisprBase StartedAt: 2025-03-31 15:26:12 -0400 (Mon, 31 Mar 2025) EndedAt: 2025-03-31 15:26:30 -0400 (Mon, 31 Mar 2025) EllapsedTime: 17.8 seconds RetCode: 0 Status: OK