Package: cqn Version: 1.52.0 Command: /home/biocbuild/R/R/bin/R CMD build --keep-empty-dirs --no-resave-data cqn StartedAt: 2025-02-03 22:52:49 -0000 (Mon, 03 Feb 2025) EndedAt: 2025-02-03 22:53:09 -0000 (Mon, 03 Feb 2025) EllapsedTime: 20.0 seconds RetCode: 0 Status: OK PackageFile: cqn_1.52.0.tar.gz PackageFileSize: 795.1 KiB