Package: cqn Version: 1.52.0 Command: chmod a+r cqn -R && F:\biocbuild\bbs-3.20-bioc\R\bin\R.exe CMD build --keep-empty-dirs --no-resave-data cqn StartedAt: 2025-03-31 18:13:15 -0400 (Mon, 31 Mar 2025) EndedAt: 2025-03-31 18:13:44 -0400 (Mon, 31 Mar 2025) EllapsedTime: 28.7 seconds RetCode: 0 Status: OK PackageFile: cqn_1.52.0.tar.gz PackageFileSize: 718.6 KiB