Package: cqn Version: 1.52.0 Command: rm -rf cqn.buildbin-libdir && mkdir cqn.buildbin-libdir && F:\biocbuild\bbs-3.20-bioc\R\bin\R.exe CMD INSTALL --build --library=cqn.buildbin-libdir cqn_1.52.0.tar.gz StartedAt: 2025-04-01 07:59:05 -0400 (Tue, 01 Apr 2025) EndedAt: 2025-04-01 07:59:14 -0400 (Tue, 01 Apr 2025) EllapsedTime: 8.5 seconds RetCode: 0 Status: OK PackageFile: cqn_1.52.0.zip PackageFileSize: 740.4 KiB