Package: cqn Version: 1.52.0 Command: /Library/Frameworks/R.framework/Resources/bin/R CMD INSTALL cqn StartedAt: 2025-03-31 16:09:23 -0400 (Mon, 31 Mar 2025) EndedAt: 2025-03-31 16:09:36 -0400 (Mon, 31 Mar 2025) EllapsedTime: 12.6 seconds RetCode: 0 Status: OK