Package: covRNA Version: 1.32.0 Command: /home/biocbuild/bbs-3.20-bioc/R/bin/R CMD build --keep-empty-dirs --no-resave-data covRNA StartedAt: 2024-11-19 18:18:19 -0500 (Tue, 19 Nov 2024) EndedAt: 2024-11-19 18:19:03 -0500 (Tue, 19 Nov 2024) EllapsedTime: 43.9 seconds RetCode: 0 Status: OK PackageFile: covRNA_1.32.0.tar.gz PackageFileSize: 566.2 KiB