Package: covRNA Version: 1.32.0 Command: /home/biocbuild/R/R/bin/R CMD INSTALL covRNA StartedAt: 2025-01-27 21:45:49 -0000 (Mon, 27 Jan 2025) EndedAt: 2025-01-27 21:46:11 -0000 (Mon, 27 Jan 2025) EllapsedTime: 22.8 seconds RetCode: 0 Status: OK